0.25
0
0
-0.25
614766.4255
4701674.19388
