0.25
0
0
-0.25
594242.11176
4699043.02694
