0.25
0
0
-0.25
604557.86066
4696881.23249
