0.25
0
0
-0.25
618309.81137
4694793.44343
