0.25
0
0
-0.25
594366.82492
4689790.37133
