0.25
0
0
-0.25
604661.61992
4689941.73474
