0.25
0
0
-0.25
635232.8346
4706679.52448
