0.25
0
0
-0.25
631852.74463
4704298.91499
