0.25
0
0
-0.25
621779.41241
4692540.81247
