0.25
0
0
-0.25
649027.19878
4702338.83132
