0.25
0
0
-0.25
591025.20872
4682803.84391
