0.25
0
0
-0.25
601263.42046
4687576.44738
