0.25
0
0
-0.25
614994.4216
4687795.03764
