0.25
0
0
-0.25
618505.3364
4683227.50599
