0.25
0
0
-0.25
615221.92056
4673915.99755
