0.25
0
0
-0.25
621980.55637
4680974.80764
