0.25
0
0
-0.25
622060.90568
4676348.46489
