0.25
0
0
-0.25
587906.49569
4657314.29464
