0.25
0
0
-0.25
594708.64501
4664345.92128
