0.25
0
0
-0.25
601596.80557
4664445.0214
