0.25
0
0
-0.25
605040.91462
4664497.10337
