1
0
0
-1
600164.893744785
4757087.53893222
