1
0
0
-1
600583.390956289
4729326.88185604
