1
0
0
-1
607410.205040579
4729433.01673248
