1
0
0
-1
654986.958779707
4739618.38101656
