1
0
0
-1
559791.202433633
4710325.81277224
