1
0
0
-1
573378.898655172
4719716.68609029
