1
0
0
-1
600652.913469482
4724700.26002029
