1
0
0
-1
594016.20003241
4710721.32218609
