1
0
0
-1
641642.26086438
4725438.53774924
