1
0
0
-1
587291.574233538
4701375.94719988
