1
0
0
-1
607853.914205973
4701673.72282821
