1
0
0
-1
621562.259534019
4701905.9655844
