1
0
0
-1
621645.111810479
4697279.53128934
