1
0
0
-1
635455.055485105
4692911.93272517
