1
0
0
-1
620059.728403009
4785188.53728252
