1
0
0
-1
572812.171375494
4770611.68435558
