1
0
0
-1
620227.849301319
4775934.15819203
