2.5
0
0
-2.5
579825.138282107
4743109.67056126
