2.5
0
0
-2.5
593455.877495667
4743294.83714848
