2.5
0
0
-2.5
552802.937565697
4715060.80416547
