2.5
0
0
-2.5
594527.411575743
4669271.9085885
