0.150
0
0
-0.150
562899.975
4747310.025
