0.150
0
0
-0.150
583179.975
4759100.025
