0.150
0
0
-0.150
586639.875
4754519.925
