0.150
0
0
-0.150
593370.075
4759240.125
