0.150
0
0
-0.150
607069.875
4752509.925
