0.150
0
0
-0.150
607110.075
4750190.025
