0.150
0
0
-0.150
610549.875
4747930.125
