0.150
0
0
-0.150
613989.975
4745680.125
